BEGIN:VCALENDAR
VERSION:2.0
PRODID:-//German Speaking Ev. Church in Ethiopia - German Church School - ECPv6.15.20//NONSGML v1.0//EN
CALSCALE:GREGORIAN
METHOD:PUBLISH
X-ORIGINAL-URL:https://kreuzkirche-addis.de/home
X-WR-CALDESC:Veranstaltungen für German Speaking Ev. Church in Ethiopia - German Church School
REFRESH-INTERVAL;VALUE=DURATION:PT1H
X-Robots-Tag:noindex
X-PUBLISHED-TTL:PT1H
BEGIN:VTIMEZONE
TZID:Europe/Berlin
BEGIN:DAYLIGHT
TZOFFSETFROM:+0100
TZOFFSETTO:+0200
TZNAME:CEST
DTSTART:20230326T010000
END:DAYLIGHT
BEGIN:STANDARD
TZOFFSETFROM:+0200
TZOFFSETTO:+0100
TZNAME:CET
DTSTART:20231029T010000
END:STANDARD
BEGIN:DAYLIGHT
TZOFFSETFROM:+0100
TZOFFSETTO:+0200
TZNAME:CEST
DTSTART:20240331T010000
END:DAYLIGHT
BEGIN:STANDARD
TZOFFSETFROM:+0200
TZOFFSETTO:+0100
TZNAME:CET
DTSTART:20241027T010000
END:STANDARD
BEGIN:DAYLIGHT
TZOFFSETFROM:+0100
TZOFFSETTO:+0200
TZNAME:CEST
DTSTART:20250330T010000
END:DAYLIGHT
BEGIN:STANDARD
TZOFFSETFROM:+0200
TZOFFSETTO:+0100
TZNAME:CET
DTSTART:20251026T010000
END:STANDARD
END:VTIMEZONE
BEGIN:VEVENT
DTSTART;TZID=Europe/Berlin:20241006T000000
DTEND;TZID=Europe/Berlin:20241006T000000
DTSTAMP:20260422T233313
CREATED:20240915T162524Z
LAST-MODIFIED:20241003T094937Z
UID:2764-1728172800-1728172800@kreuzkirche-addis.de
SUMMARY:11 Uhr: Familiengottesdienst zum Erntedankfest
DESCRIPTION:
URL:https://kreuzkirche-addis.de/home/event/11-uhr-gottesdienst-zum-erntedankfest/
LOCATION:Kreuzkirche Addis Abeba\, Angola Str.\, Addis Abeba\, Äthiopien
END:VEVENT
END:VCALENDAR